BEGIN:VCALENDAR
VERSION:2.0
PRODID:-//ChamberMaster//Event Calendar 2.0//EN
METHOD:PUBLISH
X-PUBLISHED-TTL:P3D
REFRESH-INTERVAL:P3D
CALSCALE:GREGORIAN
BEGIN:VEVENT
DTSTART:20220825T210000Z
DTEND:20220825T230000Z
X-MICROSOFT-CDO-ALLDAYEVENT:FALSE
SUMMARY:2022 August Member Mixer
DESCRIPTION:Join us for the return of the Member Mixers!! We've missed you!\n \n\nThe Summer Member Mixer\n\nis coming up on August 25th (5-7)\n\n\n\nFeel free to bring a chair and relax on their lawn if you like.\n\n \n\n ZZ's Big Top\n\n35015 Detroit Road\, Avon\n \n\nSponsorships Available! \n \n\nFREE Admission for all\n \n\nPlease bring a GUEST if you like! It's free! Maybe a potential member? Remember\, you get entered in the drawing in October for a $1500 cash prize for every new member you bring in! This is the perfect opportunity!\n \n\nIf you haven't been to a Member Mixer before\, it's all fun & games & giveaways plus networking in a relaxed atmosphere. No pressure!\n \n\nRSVP to Judie@NCBIA.com -or- (440) 934-1090
X-ALT-DESC;FMTTYPE=text/html:<p dir="ltr" style="line-height:1.38\;margin-top:0pt\;margin-bottom:0pt\;"><span id="docs-internal-guid-2f0503ca-7fff-d6e2-62b8-9f5bbc39fb56"><span style="font-size: 12pt\; font-family: Verdana\; color: rgb(0\, 128\, 0)\; background-color: transparent\; font-weight: 700\; font-variant-numeric: normal\; font-variant-east-asian: normal\; vertical-align: baseline\; white-space: pre-wrap\;">Join us for the return of the Member Mixers!! We&#39\;ve missed you!</span></span></p>\n&nbsp\;\n\n<p dir="ltr" style="line-height:1.38\;margin-top:10pt\;margin-bottom:10pt\;"><span id="docs-internal-guid-2f0503ca-7fff-d6e2-62b8-9f5bbc39fb56"><span style="font-size: 12pt\; font-family: Verdana\; background-color: transparent\; font-variant-numeric: normal\; font-variant-east-asian: normal\; vertical-align: baseline\; white-space: pre-wrap\;">The Summer Member Mixer<br />\nis coming up on </span><span style="font-size: 12pt\; font-family: Verdana\; color: rgb(255\, 51\, 204)\; background-color: transparent\; font-weight: 700\; font-variant-numeric: normal\; font-variant-east-asian: normal\; vertical-align: baseline\; white-space: pre-wrap\;">August 25th </span><span style="font-size: 12pt\; font-family: Verdana\; background-color: transparent\; font-variant-numeric: normal\; font-variant-east-asian: normal\; vertical-align: baseline\; white-space: pre-wrap\;">(5-7)<br />\n<br />\nFeel free to bring a chair and relax on their lawn if you like.</span></span><br />\n&nbsp\;</p>\n\n<p dir="ltr" style="line-height:1.38\;margin-top:10pt\;margin-bottom:10pt\;"><span id="docs-internal-guid-2f0503ca-7fff-d6e2-62b8-9f5bbc39fb56"><span style="font-size: 12pt\; font-family: Verdana\; background-color: transparent\; font-variant-numeric: normal\; font-variant-east-asian: normal\; vertical-align: baseline\; white-space: pre-wrap\;">&nbsp\;ZZ&#39\;s Big Top<br />\n35015 Detroit Road\, Avon</span></span></p>\n&nbsp\;\n\n<p dir="ltr" style="line-height:1.38\;margin-top:10pt\;margin-bottom:10pt\;"><span id="docs-internal-guid-2f0503ca-7fff-d6e2-62b8-9f5bbc39fb56"><span style="font-size: 12pt\; font-family: Verdana\; background-color: transparent\; font-weight: 700\; font-variant-numeric: normal\; font-variant-east-asian: normal\; vertical-align: baseline\; white-space: pre-wrap\;">Sponsorships Available!&nbsp\;</span></span></p>\n&nbsp\;\n\n<p dir="ltr" style="line-height:1.38\;margin-top:10pt\;margin-bottom:10pt\;"><span id="docs-internal-guid-2f0503ca-7fff-d6e2-62b8-9f5bbc39fb56"><span style="font-size: 12pt\; font-family: Verdana\; color: rgb(153\, 102\, 204)\; background-color: transparent\; font-weight: 700\; font-variant-numeric: normal\; font-variant-east-asian: normal\; vertical-align: baseline\; white-space: pre-wrap\;">FREE Admission for all</span></span></p>\n&nbsp\;\n\n<p dir="ltr" style="line-height:1.38\;margin-top:10pt\;margin-bottom:10pt\;"><span id="docs-internal-guid-2f0503ca-7fff-d6e2-62b8-9f5bbc39fb56"><span style="font-size: 12pt\; font-family: Verdana\; background-color: transparent\; font-variant-numeric: normal\; font-variant-east-asian: normal\; vertical-align: baseline\; white-space: pre-wrap\;">Please bring a GUEST if you like! It&#39\;s free! Maybe a potential member? Remember\, you get entered in the drawing in October for a $1500 cash prize for every new member you bring in! This is the perfect opportunity!</span></span></p>\n&nbsp\;\n\n<p dir="ltr" style="line-height:1.38\;margin-top:10pt\;margin-bottom:10pt\;"><span id="docs-internal-guid-2f0503ca-7fff-d6e2-62b8-9f5bbc39fb56"><span style="font-size: 12pt\; font-family: Verdana\; background-color: transparent\; font-variant-numeric: normal\; font-variant-east-asian: normal\; vertical-align: baseline\; white-space: pre-wrap\;">If you haven&#39\;t been to a Member Mixer before\, it&#39\;s all </span><span style="font-size: 12pt\; font-family: Verdana\; color: rgb(51\, 153\, 255)\; background-color: transparent\; font-weight: 700\; font-variant-numeric: normal\; font-variant-east-asian: normal\; vertical-align: baseline\; white-space: pre-wrap\;">fun &amp\; games &amp\; giveaways plus networking</span><span style="font-size: 12pt\; font-family: Verdana\; background-color: transparent\; font-variant-numeric: normal\; font-variant-east-asian: normal\; vertical-align: baseline\; white-space: pre-wrap\;"> in a relaxed atmosphere. No pressure!</span></span></p>\n&nbsp\;\n\n<p dir="ltr" style="line-height:1.38\;margin-top:10pt\;margin-bottom:10pt\;"><span id="docs-internal-guid-2f0503ca-7fff-d6e2-62b8-9f5bbc39fb56"><span style="font-size: 12pt\; font-family: Verdana\; background-color: transparent\; font-variant-numeric: normal\; font-variant-east-asian: normal\; vertical-align: baseline\; white-space: pre-wrap\;">RSVP to Judie@NCBIA.com -or- (440) 934-1090</span></span></p>\n\n<div>&nbsp\;</div>\n
LOCATION:ZZ's Big Top 35015 Detroit Road\, Avon
UID:e.9282.2059
SEQUENCE:3
DTSTAMP:20260423T202704Z
URL:http://members.ncbia.com/events/details/2022-august-member-mixer-2059
END:VEVENT

END:VCALENDAR
