BEGIN:VCALENDAR
VERSION:2.0
PRODID:-//ChamberMaster//Event Calendar 2.0//EN
METHOD:PUBLISH
X-PUBLISHED-TTL:P3D
REFRESH-INTERVAL:P3D
CALSCALE:GREGORIAN
BEGIN:VEVENT
DTSTART:20220924T213000Z
DTEND:20220925T020000Z
X-MICROSOFT-CDO-ALLDAYEVENT:FALSE
SUMMARY:2022 Clambake
DESCRIPTION:One of our fall favorites is back again! Invite your friends\, family\, co-workers\, and clients to the NCBIA Clambake!\n\n\n\nReverse Raffle!!\n\nBooze Basket!!\n\nRaffle Baskets!!\n\n\n\nChoose Chicken or Steak Clambake dinner\, and add a dozen clams for just $12!\n\n\n\nLots of Marketing Opportunities are available. See flyer for complete details or contact Judie@ncbia.com or (440) 934-1090.
X-ALT-DESC;FMTTYPE=text/html:One of our fall favorites is back again! Invite your friends\, family\, co-workers\, and clients to the NCBIA Clambake!<br />\n<br />\nReverse Raffle!!<br />\nBooze Basket!!<br />\nRaffle Baskets!!<br />\n<br />\nChoose Chicken or Steak Clambake dinner\, and add a dozen clams for just $12!<br />\n<br />\nLots of Marketing Opportunities are available. See flyer for complete details or contact Judie@ncbia.com or <a href="tel:(440) 934-1090">(440) 934-1090</a>.
LOCATION:Amherst Eagles
UID:e.9282.2060
SEQUENCE:3
DTSTAMP:20260423T190310Z
URL:http://members.ncbia.com/events/details/2022-clambake-2060
END:VEVENT

END:VCALENDAR
