BEGIN:VCALENDAR
VERSION:2.0
PRODID:-//ChamberMaster//Event Calendar 2.0//EN
METHOD:PUBLISH
X-PUBLISHED-TTL:P3D
REFRESH-INTERVAL:P3D
CALSCALE:GREGORIAN
BEGIN:VEVENT
DTSTART:20220226T140000Z
DTEND:20220226T220000Z
X-MICROSOFT-CDO-ALLDAYEVENT:FALSE
SUMMARY:2022 HOME AND REMODELING SHOW
DESCRIPTION:Reserve your booth now for the 2022 Home Show!!\n\n\n\nNOW A 2-DAY SHOW!!!\n\n \n\nSign up early!! We're expecting the show to sell out\, as usual. Get your contract in ASAP so you don't miss out!\n\n\n\nCall Sara Majzun with any questions at (440) 396-6631 or email sara.majzun@security-ohio.com.\n\n\n\nCLICK HERE for the full downloadable Exhibitor Contract\n\n\n\nCLICK HERE for the full downloadable Sponsor Contract\n\n\n\nCLICK HERE to visit the Home & Remodeling Show page on our website
X-ALT-DESC;FMTTYPE=text/html:<span style="color: rgb(34\, 34\, 34)\; font-family: Arial\, Helvetica\, sans-serif\; font-size: 16px\;"><span style="font-family: verdana\;">Reserve your booth now for the&nbsp\;<span style="color: rgb(0\, 100\, 0)\;"><strong>2022 Home Show!!</strong></span><br />\n<br />\n<span style="color: rgb(0\, 0\, 128)\;"><span style="font-size: 20px\;"><strong>NOW A 2-DAY SHOW!!!</strong></span></span><br />\n&nbsp\;<br />\nSign up early!!&nbsp\;We&rsquo\;re expecting the show to sell out\, as usual. Get your contract in ASAP so you don&rsquo\;t miss out!</span></span><br style="color: rgb(34\, 34\, 34)\; font-family: Arial\, Helvetica\, sans-serif\; font-size: small\;" />\n<br style="color: rgb(34\, 34\, 34)\; font-family: Arial\, Helvetica\, sans-serif\; font-size: small\;" />\n<span style="color: rgb(34\, 34\, 34)\; font-family: verdana\; font-size: 16px\;">Call Sara Majzun with any questions at&nbsp\;</span><a data-saferedirecturl="https://www.google.com/url?q=http://tel:4403966631&amp\;source=gmail&amp\;ust=1639675918037000&amp\;usg=AOvVaw3uyCI0fM5lxVg3-RNXskQG" href="http://tel:4403966631/" style="color: rgb(17\, 85\, 204)\; font-family: verdana\; font-size: 16px\;" target="_blank">(440) 396-6631</a><span style="color: rgb(34\, 34\, 34)\; font-family: verdana\; font-size: 16px\;">&nbsp\;or email&nbsp\;</span><a href="mailto:sara.majzun@security-ohio.com" style="color: rgb(5\, 99\, 193)\; font-family: verdana\; font-size: 16px\;" target="_blank">sara.majzun@security-<wbr />ohio.com</a><span style="color: rgb(34\, 34\, 34)\; font-family: verdana\; font-size: 16px\;">.</span><br />\n<br />\n<a href="https://www.ncbia.com/wp-content/uploads/2021/12/2022-Home-Show-Exhibitor-Contract-12-16-2021.pdf">CLICK HERE</a> for the full downloadable Exhibitor Contract<br />\n<br />\n<a href="https://www.ncbia.com/wp-content/uploads/2021/12/2022-Home-Show-Sponsor-Contract.pdf">CLICK HERE</a> for the full downloadable Sponsor Contract<br />\n<br />\n<a href="https://www.ncbia.com/consumers/home-remodeling-show/">CLICK HERE</a> to visit the Home &amp\; Remodeling Show page on our website
LOCATION:Emerald Events Center 33040 Just Imagine Dr.\, Avon\, OH 44011
UID:e.9282.2014
SEQUENCE:3
DTSTAMP:20260424T042553Z
URL:http://members.ncbia.com/events/details/2022-home-and-remodeling-show-2014
END:VEVENT

END:VCALENDAR
