BEGIN:VCALENDAR
VERSION:2.0
PRODID:-//ChamberMaster//Event Calendar 2.0//EN
METHOD:PUBLISH
X-PUBLISHED-TTL:P3D
REFRESH-INTERVAL:P3D
CALSCALE:GREGORIAN
BEGIN:VEVENT
DTSTART:20220820T170000Z
DTEND:20220820T210000Z
X-MICROSOFT-CDO-ALLDAYEVENT:FALSE
SUMMARY:2022 Softball Game & Family Picnic
DESCRIPTION:Come out for a fan favorite\; the annual NCBIA Softball Game & Family Picnic!!\n\n\n\nIf you want to play\, please contact Sara Majzun at samajzun@gmail.com \n\n\n\nNot playing?! JOIN OUR CHEERING SECTION!!!! Bring your own chairs for the [BEST SEATS IN THE HOUSE]!! Make your own signs\, cheer on your fellow members\, and join in this good-natured\, yet highly competitive annual softball game. Will Team Sherer continue their winning streak? Or will Team Majzun make a comeback?! You have to be there to see the action!\n\n\n\nThere's a playground\, climbing wall\, games\, and plenty of space for the kids to run around. They can bring bikes for the bike path\, too!\n\n\n\nEnjoy dinner together at 4:00 pm.
X-ALT-DESC;FMTTYPE=text/html:Come out for a fan favorite\; the annual NCBIA Softball Game &amp\; Family Picnic!!<br />\n<br />\nIf you want to play\, please contact Sara Majzun at samajzun@gmail.com&nbsp\;<br />\n<br />\nNot playing?! JOIN OUR CHEERING SECTION!!!! Bring your own chairs for the [BEST SEATS IN THE HOUSE]!! Make your own signs\, cheer on your fellow members\, and join in this good-natured\, yet highly competitive annual softball game. Will Team Sherer continue their winning streak? Or will Team Majzun make a comeback?! You have to be there to see the action!<br />\n<br />\nThere&#39\;s a playground\, climbing wall\, games\, and plenty of space for the kids to run around. They can bring bikes for the bike path\, too!<br />\n<br />\nEnjoy dinner together at 4:00 pm.
LOCATION:Amherst Twp. Field
UID:e.9282.2058
SEQUENCE:3
DTSTAMP:20260423T202311Z
URL:http://members.ncbia.com/events/details/2022-softball-game-family-picnic-2058
END:VEVENT

END:VCALENDAR
