BEGIN:VCALENDAR
VERSION:2.0
PRODID:-//ChamberMaster//Event Calendar 2.0//EN
METHOD:PUBLISH
X-PUBLISHED-TTL:P3D
REFRESH-INTERVAL:P3D
CALSCALE:GREGORIAN
BEGIN:VEVENT
DTSTART:20231014T213000Z
DTEND:20231015T020000Z
X-MICROSOFT-CDO-ALLDAYEVENT:FALSE
SUMMARY:2023 Annual Clambake
DESCRIPTION:One of our Fall Favorites is Back!! Join us for our highly-anticipated Annual Clambake on October 14th! This exciting event promises an unforgettable day of delicious seafood\, and Professional Networking! As we prepare for this year's gathering\, we're thrilled to announce numerous marketing opportunities for Members! Contact us today to explore how you can become a part of this fantastic event and make a splash in the hearts of our attendees. Don't miss out on this unique chance to be a part of something truly special!\n\nBar Cart!\n\nReverse Raffle!!\n\nRaffle Baskets!!\n\n\n\nChoose A Chicken or Steak Clambake Dinner Made by Pogie's Catering!\n\nAdd a dozen clams for just $17!\n\n\n\nSee flyer for complete marketing details or contact Judie@ncbia.com or (440)934-1090
X-ALT-DESC;FMTTYPE=text/html:<span style="font-family: arial\; color: rgb(55\, 65\, 81)\; font-size: 16px\; white-space-collapse: preserve\; background-color: rgb(247\, 247\, 248)\;">One of our Fall Favorites is Back!! Join us for our highly-anticipated Annual Clambake on October 14th! This exciting event promises an unforgettable day of delicious seafood\, and Professional Networking! As we prepare for this year&#39\;s gathering\, we&#39\;re thrilled to announce numerous marketing opportunities for Members! Contact us today to explore how you can become a part of this fantastic event and make a splash in the hearts of our attendees. Don&#39\;t miss out on this unique chance to be a part of something truly special!<br />\nBar Cart!<br />\nReverse Raffle!!<br />\nRaffle Baskets!!<br />\n<br />\nChoose A Chicken or Steak Clambake Dinner Made by Pogie&#39\;s Catering!<br />\nAdd a dozen clams for just $17!<br />\n<br />\nSee flyer for complete marketing details or contact <a href="http://mailto:judie@ncbia.com">Judie@ncbia.com</a> or <a href="http://tel:(440) 934-1090">(440)934-1090</a></span>
LOCATION:Amherst Eagles
UID:e.9282.2111
SEQUENCE:3
DTSTAMP:20260423T011313Z
URL:http://members.ncbia.com/events/details/2023-annual-clambake-2111
END:VEVENT

END:VCALENDAR
