BEGIN:VCALENDAR
VERSION:2.0
PRODID:-//ChamberMaster//Event Calendar 2.0//EN
METHOD:PUBLISH
X-PUBLISHED-TTL:P3D
REFRESH-INTERVAL:P3D
CALSCALE:GREGORIAN
BEGIN:VEVENT
DTSTART:20240224T140000Z
DTEND:20240225T220000Z
X-MICROSOFT-CDO-ALLDAYEVENT:FALSE
SUMMARY:2024 HOME AND REMODELING SHOW
DESCRIPTION:Reserve your booth now for the 2024 Home Show!!\n\n\n\nNOW A 2-DAY SHOW!!!\n\n \n\nSign up early!! We're expecting the show to sell out\, as usual. Get your contract in ASAP so you don't miss out!\n\n\n\nCall Sara Majzun with any questions at 440-752-7061 or email samajzun@gmail.com\n\n\n\n\n\nCLICK HERE to visit the Home & Remodeling Show page on our website
X-ALT-DESC;FMTTYPE=text/html:<span style="color: rgb(34\, 34\, 34)\; font-family: Arial\, Helvetica\, sans-serif\; font-size: 16px\;"><span style="font-family: verdana\;">Reserve your booth now for the&nbsp\;<span style="color: rgb(0\, 100\, 0)\;"><strong>2024 Home Show!!</strong></span><br />\n<br />\n<span style="color: rgb(0\, 0\, 128)\;"><span style="font-size: 20px\;"><strong>NOW A 2-DAY SHOW!!!</strong></span></span><br />\n&nbsp\;<br />\nSign up early!!&nbsp\;We&rsquo\;re expecting the show to sell out\, as usual. Get your contract in ASAP so you don&rsquo\;t miss out!</span></span><br style="color: rgb(34\, 34\, 34)\; font-family: Arial\, Helvetica\, sans-serif\; font-size: small\;" />\n<br />\n<span style="color: rgb(34\, 34\, 34)\; font-family: verdana\; font-size: 16px\;">Call Sara Majzun with any questions at <a href="tel:/(440)752-7061">440-752-7061</a>&nbsp\;</span><span style="color: rgb(34\, 34\, 34)\; font-family: verdana\; font-size: 16px\;">or email <a href="mailto:samajzun@gmail.com">samajzun@gmail.com</a></span><br />\n<br />\n<br />\n<span style="font-family:verdana\;"><a href="https://www.ncbia.com/consumers/home-remodeling-show/">CLICK HERE</a> to visit the Home &amp\; Remodeling Show page on our website</span>
LOCATION:Emerald Events Center 33040 Just Imagine Dr.\, Avon\, OH 44011
UID:e.9282.2117
SEQUENCE:3
DTSTAMP:20260422T183319Z
URL:http://members.ncbia.com/events/details/2024-home-and-remodeling-show-2117
END:VEVENT

END:VCALENDAR
