BEGIN:VCALENDAR
VERSION:2.0
PRODID:-//ChamberMaster//Event Calendar 2.0//EN
METHOD:PUBLISH
X-PUBLISHED-TTL:P3D
REFRESH-INTERVAL:P3D
CALSCALE:GREGORIAN
BEGIN:VEVENT
DTSTART:20240120T223000Z
DTEND:20240121T040000Z
X-MICROSOFT-CDO-ALLDAYEVENT:FALSE
SUMMARY:80th Anniversary Installation Night 2024
DESCRIPTION:80th Anniversary Bash Including the 2024 Installation of Officers\, Hall of Fame & Circle of Excellence
X-ALT-DESC;FMTTYPE=text/html:<div style="text-align: center\;"><strong style="font-family: Arial\; font-size: 13.3333px\; text-align: center\; color: rgb(34\, 34\, 34)\;"><font face="georgia\, serif"><span style="font-size: 24px\;">80<sup>th</sup>&nbsp\;Anniversary Bash Including the 2024 Installation of Officers\, Hall of Fame &amp\; Circle of Excellence</span></font></strong></div>\n
LOCATION:Tom's Country Place Stoney Ridge Road Avon\, OH
UID:e.9282.2125
SEQUENCE:3
DTSTAMP:20260422T200910Z
URL:http://members.ncbia.com/events/details/80th-anniversary-installation-night-2024-2125
END:VEVENT

END:VCALENDAR
