BEGIN:VCALENDAR
VERSION:2.0
PRODID:-//ChamberMaster//Event Calendar 2.0//EN
METHOD:PUBLISH
X-PUBLISHED-TTL:P3D
REFRESH-INTERVAL:P3D
CALSCALE:GREGORIAN
BEGIN:VEVENT
DTSTART:20220727T213000Z
DTEND:20220727T230000Z
X-MICROSOFT-CDO-ALLDAYEVENT:FALSE
SUMMARY:Auditors Meeting
DESCRIPTION:LET'S CONNECT!\n\n\n\nThe industry is ALWAYS changing\n\nThis networking event is for the builders and auditors to meet informally and better understand each other. We would like to discuss our insights as to where we see development\, building costs\, interest rates\, market demand\, etc. will be heading over the next 18 to 24 months. \n\n \n\nRSVP and cancellation due by July 13th to Judie@ncbia.com.
X-ALT-DESC;FMTTYPE=text/html:<div class="kvgmc6g5 cxmmr5t8 oygrvhab hcukyx3x c1et5uql" style="overflow-wrap: break-word\; margin: 0px\; font-family: system-ui\, -apple-system\, system-ui\, &quot\;.SFNSText-Regular&quot\;\, sans-serif\; color: rgb(5\, 5\, 5)\; font-size: 15px\;"><span style="color:#0000CD\;"><strong><span style="font-size:20px\;">LET&rsquo\;S CONNECT!</span></strong></span><br />\n<br />\nThe industry is ALWAYS changing<br />\nThis networking event is for the builders and auditors to meet informally and better understand each other. We would like to discuss our insights as to where we see development\, building costs\, interest rates\, market demand\, etc. will be heading over the next 18 to 24 months.&nbsp\;<br />\n&nbsp\;</div>\n\n<div class="o9v6fnle cxmmr5t8 oygrvhab hcukyx3x c1et5uql" style="overflow-wrap: break-word\; margin: 0.5em 0px 0px\; font-family: system-ui\, -apple-system\, system-ui\, &quot\;.SFNSText-Regular&quot\;\, sans-serif\; color: rgb(5\, 5\, 5)\; font-size: 15px\;">RSVP and cancellation due by&nbsp\;July 13th to Judie@ncbia.com.</div>\n\n<div class="o9v6fnle cxmmr5t8 oygrvhab hcukyx3x c1et5uql" style="overflow-wrap: break-word\; margin: 0.5em 0px 0px\; font-family: system-ui\, -apple-system\, system-ui\, &quot\;.SFNSText-Regular&quot\;\, sans-serif\; color: rgb(5\, 5\, 5)\; font-size: 15px\;">&nbsp\;</div>\n
LOCATION:The Orchid Room at Miller Nature Preserve 2739 Center Road\, Avon
UID:e.9282.2052
SEQUENCE:3
DTSTAMP:20260423T214905Z
URL:http://members.ncbia.com/events/details/auditors-meeting-2052
END:VEVENT

END:VCALENDAR
