BEGIN:VCALENDAR
VERSION:2.0
PRODID:-//ChamberMaster//Event Calendar 2.0//EN
METHOD:PUBLISH
X-PUBLISHED-TTL:P3D
REFRESH-INTERVAL:P3D
CALSCALE:GREGORIAN
BEGIN:VEVENT
DTSTART:20231115T203000Z
DTEND:20231115T220000Z
X-MICROSOFT-CDO-ALLDAYEVENT:FALSE
SUMMARY:Executive Committee - 11/8/2023
DESCRIPTION:Clubhouse at Preserves at French Creek\n\n5800 Preserve Drive\n\nSheffield Village\n\nAbbe Road between Detroit Road and French Creek
X-ALT-DESC;FMTTYPE=text/html:Clubhouse at Preserves at French Creek<br />\n5800 Preserve Drive<br />\nSheffield Village<br />\nAbbe Road between Detroit Road and French Creek&nbsp\;
LOCATION:
UID:e.9282.2074
SEQUENCE:3
DTSTAMP:20260422T233506Z
URL:http://members.ncbia.com/events/details/executive-committee-11-8-2023-2074
END:VEVENT

END:VCALENDAR
