BEGIN:VCALENDAR
VERSION:2.0
PRODID:-//ChamberMaster//Event Calendar 2.0//EN
METHOD:PUBLISH
X-PUBLISHED-TTL:P3D
REFRESH-INTERVAL:P3D
CALSCALE:GREGORIAN
BEGIN:VEVENT
DTSTART:20220617T153000Z
DTEND:20220617T170000Z
X-MICROSOFT-CDO-ALLDAYEVENT:FALSE
SUMMARY:General Membership Meeting & Cookout June 2022
DESCRIPTION:Come kick off the start of summer with the NCBIA at Pogie's Clubhouse on Friday\, June 17 from 11:30-1:00!\n\n\n\n\n\nAnd remember\, if you bring a potential member to the cookout and they join by July 15\, 2022\, you will get FREE ADMISSION to the October General Membership Meeting!!
X-ALT-DESC;FMTTYPE=text/html:<span style="font-family: verdana\; font-size: 16px\;">Come kick off the start of summer with the NCBIA at&nbsp\;</span><span style="font-family: verdana\; font-size: 16px\; color: rgb(255\, 51\, 51)\;"><strong>Pogie&#39\;s Clubhouse on Friday\, June 17 from 11:30-1:00!</strong></span><br style="font-family: verdana\; font-size: 16px\;" />\n<br style="font-family: verdana\; font-size: 16px\;" />\n<br style="font-family: verdana\; font-size: 16px\;" />\n<span style="font-family: verdana\; font-size: 16px\;">And remember\, if you&nbsp\;</span><span style="font-family: verdana\; font-size: 20px\;"><span style="color: rgb(255\, 0\, 0)\;"><strong>bring a potential member</strong></span></span><span style="font-family: verdana\; font-size: 16px\;">&nbsp\;to the cookout and they join by July 15\, 2022\, you will get FREE ADMISSION to the October General Membership Meeting!!</span>
LOCATION:Pogie's Clubhouse
UID:e.9282.2043
SEQUENCE:3
DTSTAMP:20260423T231416Z
URL:http://members.ncbia.com/events/details/general-membership-meeting-cookout-june-2022-2043
END:VEVENT

END:VCALENDAR
