BEGIN:VCALENDAR
VERSION:2.0
PRODID:-//ChamberMaster//Event Calendar 2.0//EN
METHOD:PUBLISH
X-PUBLISHED-TTL:P3D
REFRESH-INTERVAL:P3D
CALSCALE:GREGORIAN
BEGIN:VEVENT
DTSTART:20260624T210000Z
DTEND:20260624T230000Z
X-MICROSOFT-CDO-ALLDAYEVENT:FALSE
SUMMARY:General Membership Meeting & Cookout June 2026
DESCRIPTION:Join the NCBIA for the summer kickoff General Membership Meeting Cookout at Pogie's Clubhouse on Wednesday\, June 24\, from 5-7 PM! \n\n\n\n7575 Leavitt Road\, Amherst\n\n\n\n\n\n\n\nSponsorships are always appreciated!
X-ALT-DESC;FMTTYPE=text/html:<span style="color:#000080\;"><span style="font-size:18px\;"><span style="font-family:verdana\;"><strong>Join the NCBIA for the summer kickoff General Membership Meeting Cookout at Pogie&#39\;s Clubhouse on Wednesday\, June 24\, from 5-7 PM!&nbsp\;<br />\n<br />\n7575 Leavitt Road\, Amherst</strong></span></span><br style="font-family: verdana\; font-size: 16px\;" />\n<br style="font-family: verdana\; font-size: 16px\;" />\n<br />\n<br />\n<strong><span style="font-family: verdana\; font-size: 14px\; background-color: rgb(255\, 255\, 255)\;">Sponsorships are always appreciated!</span></strong></span>
LOCATION:
UID:e.9282.2279
SEQUENCE:3
DTSTAMP:20260423T194705Z
URL:http://members.ncbia.com/events/details/general-membership-meeting-cookout-june-2026-2279
END:VEVENT

END:VCALENDAR
