BEGIN:VCALENDAR
VERSION:2.0
PRODID:-//ChamberMaster//Event Calendar 2.0//EN
METHOD:PUBLISH
X-PUBLISHED-TTL:P3D
REFRESH-INTERVAL:P3D
CALSCALE:GREGORIAN
BEGIN:VEVENT
DTSTART:20231018T210000Z
DTEND:20231018T230000Z
X-MICROSOFT-CDO-ALLDAYEVENT:FALSE
SUMMARY:General Membership Meeting & Election Night
DESCRIPTION:Get ready for the October General Membership Meeting & Election Night! You don't want to miss this!\n\n\n\nThis is our most important and best attended event of the year!!\n\n\n\nAn election will be held to determine the 2024 Board of Directors.\n\n\n\nGET INVOLVED! Sign up for 2024 Committees! People do business with people they know\, like and trust. Getting to know your fellow members is the first step! Joining a committee is a great way to do that.
X-ALT-DESC;FMTTYPE=text/html:Get ready for the October General Membership Meeting &amp\; Election Night! You don&#39\;t want to miss this!<br />\n<br />\nThis is our most important and best attended event of the year!!<br />\n<br />\nAn election will be held to determine the 2024 Board of Directors.<br />\n<br />\nGET INVOLVED! Sign up for 2024 Committees! People do business with people they know\, like and trust. Getting to know your fellow members is the first step! Joining a committee is a great way to do that.
LOCATION:Tom's Country Place If you are having a tabletop\, doors open at 3:30 for set up. Tabletop should be set up by 4:15 member orientation/review starts at 4:30 (All Welcome)
UID:e.9282.2123
SEQUENCE:3
DTSTAMP:20260423T013144Z
URL:http://members.ncbia.com/events/details/general-membership-meeting-election-night-2123
END:VEVENT

END:VCALENDAR
