BEGIN:VCALENDAR
VERSION:2.0
PRODID:-//ChamberMaster//Event Calendar 2.0//EN
METHOD:PUBLISH
X-PUBLISHED-TTL:P3D
REFRESH-INTERVAL:P3D
CALSCALE:GREGORIAN
BEGIN:VEVENT
DTSTART:20220804T120000Z
DTEND:20220804T210000Z
X-MICROSOFT-CDO-ALLDAYEVENT:FALSE
SUMMARY:Golf Classic Aug 4 2022
DESCRIPTION:NCBIA Golf Classic 2022\n\n	4-Person Scramble Format\n	18-holes of Golf with Cart\n	Lunch & BBQ Dinner\n	Raffles & Prizes\n\nRegistration & Cancellation Deadline: July 24\n\n\n\n\n\n\n\nNOTE: No one under 21 will be admitted. Keg beer\, soft drinks & water will be open during the entire event. ALL other alcoholic beverages will be available as a CASH BAR.\n\n\n\nDoor prizes & donations accepted: drop off at the NCBIA office or bring to the course.
X-ALT-DESC;FMTTYPE=text/html:NCBIA Golf Classic 2022\n<ul>\n	<li>4-Person Scramble Format</li>\n	<li>18-holes of Golf with Cart</li>\n	<li>Lunch &amp\; BBQ Dinner</li>\n	<li>Raffles &amp\; Prizes</li>\n</ul>\nRegistration &amp\; Cancellation Deadline: July 24<br />\n<br />\n<br />\n<br />\nNOTE: No one under 21 will be admitted. Keg beer\, soft drinks &amp\; water will be open during the entire event. ALL other alcoholic beverages will be available as a CASH BAR.<br />\n<br />\nDoor prizes &amp\; donations accepted: drop off at the NCBIA office or bring to the course.
LOCATION:Sweetbriar Golf Course
UID:e.9282.2040
SEQUENCE:3
DTSTAMP:20260423T202115Z
URL:http://members.ncbia.com/events/details/golf-classic-aug-4-2022-2040
END:VEVENT

END:VCALENDAR
