BEGIN:VCALENDAR
VERSION:2.0
PRODID:-//ChamberMaster//Event Calendar 2.0//EN
METHOD:PUBLISH
X-PUBLISHED-TTL:P3D
REFRESH-INTERVAL:P3D
CALSCALE:GREGORIAN
BEGIN:VEVENT
DTSTART:20220316T210000Z
DTEND:20220317T000000Z
X-MICROSOFT-CDO-ALLDAYEVENT:FALSE
SUMMARY:March General Membership Meeting 2022
DESCRIPTION:Please come to support this very important issue at our March General Membership Meeting!!!\n\n\n\nHBI: Building Careers. Changing Lives.\n\n\n\nBuilding Our Workforce\n\n\n\nHBI does one thing.  It trains skilled workers for the building industry.\n\n \n\nPresenter: Ed Brady\, President and CEO Home Builders Institute (HBI). HBI is the nation's leading educational resource for career technical education in the building industry. PACT is the pre-apprenticeship curriculum ideally suited for school-based instruction.  PACT guarantees students will learn residential construction-focused skills\, receive hands-on training\, and master the knowledge needed for employment in an entry-level job in the building industry.  \n\n \n\nSuperintendents\, principals and guidance counselors from Lorain\, Erie and Huron county schools are invited to attend as our guests at this meeting. Our goal is to help them learn how to approach students in middle and high school\, and those who influence their decisions\, to change their perception of careers in the trades.
X-ALT-DESC;FMTTYPE=text/html:<span style="font-family:verdana\;">Please come to support this very important issue at our March General Membership Meeting!!!<br />\n<br />\n<strong>HBI: Building Careers. Changing Lives.</strong><br />\n<br />\n<span style="font-size:20px\;"><strong>Building Our Workforce</strong></span><br />\n<br />\nHBI does one thing.&nbsp\; It trains skilled workers for the building industry.<br />\n&nbsp\;<br />\nPresenter: Ed Brady\, President and CEO Home Builders Institute (HBI). HBI is the nation&#39\;s leading educational resource for career technical education in the building industry. PACT is the pre-apprenticeship curriculum ideally suited for school-based instruction.&nbsp\; PACT guarantees students will learn residential construction-focused skills\, receive hands-on training\, and master the knowledge needed for employment in an entry-level job in the building industry.&nbsp\;&nbsp\;<br />\n&nbsp\;<br />\nSuperintendents\, principals and guidance counselors from Lorain\, Erie and Huron county schools are invited to attend as our guests at this meeting. Our goal is to help them learn how to approach students in middle and high school\, and those who influence their decisions\, to change their perception of careers in the trades.</span><br />\n&nbsp\;
LOCATION:Ahern's Banquet Center (Burke Hall)
UID:e.9282.2039
SEQUENCE:3
DTSTAMP:20260424T030419Z
URL:http://members.ncbia.com/events/details/march-general-membership-meeting-2022-2039
END:VEVENT

END:VCALENDAR
