BEGIN:VCALENDAR
VERSION:2.0
PRODID:-//ChamberMaster//Event Calendar 2.0//EN
METHOD:PUBLISH
X-PUBLISHED-TTL:P3D
REFRESH-INTERVAL:P3D
CALSCALE:GREGORIAN
BEGIN:VEVENT
DTSTART:20240320T210000Z
DTEND:20240320T230000Z
X-MICROSOFT-CDO-ALLDAYEVENT:FALSE
SUMMARY:March General Membership Meeting 2024
DESCRIPTION:March General Membership Meeting\n\n\n\nMeet Carl Harris 2024 NAHB Chairman\n\nCarl Harris will Provide Valuable Insights into the Importance of Membership\, the Federation and the Goals of NAHB. This will be a great Opportunity for you to Gain Knowledge and Understanding of the Industry and Objectives.
X-ALT-DESC;FMTTYPE=text/html:March General Membership Meeting<br />\n<br />\n<strong>Meet Carl Harris 2024 NAHB Chairman</strong><br />\n<span class="OYPEnA text-decoration-none text-strikethrough-none" style="font-weight: 700\;">Carl Harris will Provide Valuable Insights into the Importance of Membership\, the Federation and the Goals of NAHB. This will be a great Opportunity for you to Gain Knowledge and Understanding of the Industry and Objectives.</span><br />\n&nbsp\;
LOCATION:Tom's Country Place
UID:e.9282.2154
SEQUENCE:3
DTSTAMP:20260422T183329Z
URL:http://members.ncbia.com/events/details/march-general-membership-meeting-2024-2154
END:VEVENT

END:VCALENDAR
