BEGIN:VCALENDAR
VERSION:2.0
PRODID:-//ChamberMaster//Event Calendar 2.0//EN
METHOD:PUBLISH
X-PUBLISHED-TTL:P3D
REFRESH-INTERVAL:P3D
CALSCALE:GREGORIAN
BEGIN:VEVENT
DTSTART:20220609T223000Z
DTEND:20220610T023000Z
X-MICROSOFT-CDO-ALLDAYEVENT:FALSE
SUMMARY:Night at the Crushers 2022
DESCRIPTION:Come watch the Lake Erie Crushers take on the New Jersey Jackals at this year's NCBIA Night at the Crushers!!\n\n\n\n\n\nAll ages are welcome! Great event for the whole family!\n\n\n\nFee includes your ticket to the game\, buffet dinner\, water\, tea and lemonade.\n\n\n\nMake your reservations early\; tickets are LIMITED to the first 50 people.\n\n\n\nATTENDEES!! Your tickets will be at the Will Call Tent. Let them know how many tickets you reserved. We will see you at the 3rd Base Club!
X-ALT-DESC;FMTTYPE=text/html:Come watch the Lake Erie Crushers take on the New Jersey Jackals at this year&#39\;s NCBIA Night at the Crushers!!<br />\n<br />\n<br />\nAll ages are welcome! Great event for the whole family!<br />\n<br />\nFee includes your ticket to the game\, buffet dinner\, water\, tea and lemonade.<br />\n<br />\nMake your reservations early\; tickets are LIMITED to the first 50 people.<br />\n<br />\n<strong><span style="background-color:#FFFF00\;">ATTENDEES!! Your tickets will be at the Will Call Tent. Let them know how many tickets you reserved. We will see you at the 3rd Base Club!</span></strong>
LOCATION:Mercy Health Stadium 3rd Base Club
UID:e.9282.2042
SEQUENCE:3
DTSTAMP:20260423T231643Z
URL:http://members.ncbia.com/events/details/night-at-the-crushers-2022-2042
END:VEVENT

END:VCALENDAR
