BEGIN:VCALENDAR
VERSION:2.0
PRODID:-//ChamberMaster//Event Calendar 2.0//EN
METHOD:PUBLISH
X-PUBLISHED-TTL:P3D
REFRESH-INTERVAL:P3D
CALSCALE:GREGORIAN
BEGIN:VEVENT
DTSTART;VALUE=DATE:20231114
DTEND;VALUE=DATE:20231115
TRANSP:TRANSPARENT
X-MICROSOFT-CDO-ALLDAYEVENT:TRUE
SUMMARY:OHBA Fall Meeting 11/14/23
DESCRIPTION:Hilton Easton\, Columbus
X-ALT-DESC;FMTTYPE=text/html:Hilton Easton\, Columbus
LOCATION:
UID:e.9282.2095
SEQUENCE:3
DTSTAMP:20260422T233625Z
URL:http://members.ncbia.com/events/details/ohba-fall-meeting-11-14-23-2095
END:VEVENT

END:VCALENDAR
