BEGIN:VCALENDAR
VERSION:2.0
PRODID:-//ChamberMaster//Event Calendar 2.0//EN
METHOD:PUBLISH
X-PUBLISHED-TTL:P3D
REFRESH-INTERVAL:P3D
CALSCALE:GREGORIAN
BEGIN:VEVENT
DTSTART:20231109T131500Z
DTEND:20231109T200000Z
X-MICROSOFT-CDO-ALLDAYEVENT:FALSE
SUMMARY:Rescheduled - Building Relationships & Value Through Education - NCBIA Education Event
DESCRIPTION:Education Day is being rescheduled.   More details to follow.
X-ALT-DESC;FMTTYPE=text/html:Education Day is being rescheduled.&nbsp\; &nbsp\;More details to follow.\n<p class="_04xlpA direction-ltr align-start para-style-body" style="color: rgb(64\, 51\, 35)\; font-family: &quot\;YACgEfOAqSo 0&quot\;\, _fb_\, auto\; --font-size:16px\; --line-height:1\; line-height: 16px\;">&nbsp\;</p>\n\n<p class="_04xlpA direction-ltr align-start para-style-body" style="color: rgb(64\, 51\, 35)\; font-family: &quot\;YACgEfOAqSo 0&quot\;\, _fb_\, auto\; --font-size:16px\; --line-height:1\; line-height: 16px\;">&nbsp\;</p>\n
LOCATION:
UID:e.9282.2115
SEQUENCE:3
DTSTAMP:20260422T233856Z
URL:http://members.ncbia.com/events/details/rescheduled-building-relationships-value-through-education-ncbia-education-event-2115
END:VEVENT

END:VCALENDAR
