BEGIN:VCALENDAR
VERSION:2.0
PRODID:-//ChamberMaster//Event Calendar 2.0//EN
METHOD:PUBLISH
X-PUBLISHED-TTL:P3D
REFRESH-INTERVAL:P3D
CALSCALE:GREGORIAN
BEGIN:VEVENT
DTSTART:20220428T200000Z
DTEND:20220428T230000Z
X-MICROSOFT-CDO-ALLDAYEVENT:FALSE
SUMMARY:Spring Member Mixer 2022
DESCRIPTION:Join us for the return of the Member Mixers!! We've missed you!\n\n \n\nThe Spring Member Mixer is coming up on April 28th (4-7)\n\nAshley Oates of Cambria is your host. Lake Quartz\, 909 Canterbury\, Suite Q\, Westlake \n\n\n\nFREE Admission for all\n\n\n\nPlease bring a GUEST if you like! It's free! Maybe a potential member? Remember\, you get entered in the drawing in October for a $1500 cash prize for every new member you bring in! This is the perfect opportunity!\n\n\n\nIf you haven't been to a Member Mixer before\, it's all fun & games & giveaways plus networking in a relaxed atmosphere. No pressure!\n\n\n\nRSVP to Judie@NCBIA.com -or- (440) 934-1090
X-ALT-DESC;FMTTYPE=text/html:<p><span style="font-size:16px\;"><span style="font-family:verdana\;"><span style="color:#008000\;"><strong>Join us for the return of the Member Mixers!! We&#39\;ve missed you!</strong></span></span></span><br />\n&nbsp\;</p>\n\n<p><span style="font-size:16px\;"><span style="font-family:verdana\;">The Spring Member Mixer is coming up on <span style="color:#ff33cc\;"><strong>April 28th</strong></span>&nbsp\;(4-7)<br />\nAshley Oates of Cambria is your host. Lake Quartz\, 909 Canterbury\, Suite Q\, Westlake&nbsp\;<br />\n<br />\n<span style="color:#9966cc\;"><strong>FREE Admission for all</strong></span><br />\n<br />\nPlease bring a GUEST if you like! It&#39\;s free! Maybe a potential member? Remember\, you get entered in the drawing in October for a $1500 cash prize for every new member you bring in! This is the perfect opportunity!<br />\n<br />\nIf you haven&#39\;t been to a Member Mixer before\, it&#39\;s all <span style="color:#3399ff\;"><strong>fun &amp\; games &amp\; giveaways plus&nbsp\;networking</strong></span> in a relaxed atmosphere. No pressure!<br />\n<br />\nRSVP to Judie@NCBIA.com -or- (440) 934-1090</span></span><br />\n<br />\n<br />\n&nbsp\;</p>\n
LOCATION:Lake Quartz
UID:e.9282.2041
SEQUENCE:3
DTSTAMP:20260424T015533Z
URL:http://members.ncbia.com/events/details/spring-member-mixer-2022-2041
END:VEVENT

END:VCALENDAR
