BEGIN:VCALENDAR
VERSION:2.0
PRODID:-//ChamberMaster//Event Calendar 2.0//EN
METHOD:PUBLISH
X-PUBLISHED-TTL:P3D
REFRESH-INTERVAL:P3D
CALSCALE:GREGORIAN
BEGIN:VEVENT
DTSTART:20220707T200000Z
DTEND:20220707T230000Z
X-MICROSOFT-CDO-ALLDAYEVENT:FALSE
SUMMARY:Summer Member Mixer 2022
DESCRIPTION:Join us for the return of the Member Mixers!! We've missed you!\n \n\nThe Summer Member Mixer is coming up on July 7th (5-7)\n\n Hop Brothers Brewing\, 32650 Lorain Road\, North Ridgeville\n \n\nSponsorships Available! \n \n\nFREE Admission for all\n \n\nPlease bring a GUEST if you like! It's free! Maybe a potential member? Remember\, you get entered in the drawing in October for a $1500 cash prize for every new member you bring in! This is the perfect opportunity!\n \n\nIf you haven't been to a Member Mixer before\, it's all fun & games & giveaways plus networking in a relaxed atmosphere. No pressure!\n \n\nRSVP to Judie@NCBIA.com -or- (440) 934-1090
X-ALT-DESC;FMTTYPE=text/html:<p dir="ltr" style="line-height:1.38\;margin-top:0pt\;margin-bottom:0pt\;"><span id="docs-internal-guid-2f0503ca-7fff-d6e2-62b8-9f5bbc39fb56"><span style="font-size: 12pt\; font-family: Verdana\; color: rgb(0\, 128\, 0)\; background-color: transparent\; font-weight: 700\; font-variant-numeric: normal\; font-variant-east-asian: normal\; vertical-align: baseline\; white-space: pre-wrap\;">Join us for the return of the Member Mixers!! We&#39\;ve missed you!</span></span></p>\n&nbsp\;\n\n<p dir="ltr" style="line-height:1.38\;margin-top:10pt\;margin-bottom:10pt\;"><span id="docs-internal-guid-2f0503ca-7fff-d6e2-62b8-9f5bbc39fb56"><span style="font-size: 12pt\; font-family: Verdana\; background-color: transparent\; font-variant-numeric: normal\; font-variant-east-asian: normal\; vertical-align: baseline\; white-space: pre-wrap\;">The Summer Member Mixer is coming up on </span><span style="font-size: 12pt\; font-family: Verdana\; color: rgb(255\, 51\, 204)\; background-color: transparent\; font-weight: 700\; font-variant-numeric: normal\; font-variant-east-asian: normal\; vertical-align: baseline\; white-space: pre-wrap\;">July 7th</span><span style="font-size: 12pt\; font-family: Verdana\; background-color: transparent\; font-variant-numeric: normal\; font-variant-east-asian: normal\; vertical-align: baseline\; white-space: pre-wrap\;"> (5-7)</span></span></p>\n\n<p dir="ltr" style="line-height:1.38\;margin-top:10pt\;margin-bottom:10pt\;"><span id="docs-internal-guid-2f0503ca-7fff-d6e2-62b8-9f5bbc39fb56"><span style="font-size: 12pt\; font-family: Verdana\; background-color: transparent\; font-variant-numeric: normal\; font-variant-east-asian: normal\; vertical-align: baseline\; white-space: pre-wrap\;">&nbsp\;Hop Brothers Brewing\, 32650 Lorain Road\, North Ridgeville</span></span></p>\n&nbsp\;\n\n<p dir="ltr" style="line-height:1.38\;margin-top:10pt\;margin-bottom:10pt\;"><span id="docs-internal-guid-2f0503ca-7fff-d6e2-62b8-9f5bbc39fb56"><span style="font-size: 12pt\; font-family: Verdana\; background-color: transparent\; font-weight: 700\; font-variant-numeric: normal\; font-variant-east-asian: normal\; vertical-align: baseline\; white-space: pre-wrap\;">Sponsorships Available!&nbsp\;</span></span></p>\n&nbsp\;\n\n<p dir="ltr" style="line-height:1.38\;margin-top:10pt\;margin-bottom:10pt\;"><span id="docs-internal-guid-2f0503ca-7fff-d6e2-62b8-9f5bbc39fb56"><span style="font-size: 12pt\; font-family: Verdana\; color: rgb(153\, 102\, 204)\; background-color: transparent\; font-weight: 700\; font-variant-numeric: normal\; font-variant-east-asian: normal\; vertical-align: baseline\; white-space: pre-wrap\;">FREE Admission for all</span></span></p>\n&nbsp\;\n\n<p dir="ltr" style="line-height:1.38\;margin-top:10pt\;margin-bottom:10pt\;"><span id="docs-internal-guid-2f0503ca-7fff-d6e2-62b8-9f5bbc39fb56"><span style="font-size: 12pt\; font-family: Verdana\; background-color: transparent\; font-variant-numeric: normal\; font-variant-east-asian: normal\; vertical-align: baseline\; white-space: pre-wrap\;">Please bring a GUEST if you like! It&#39\;s free! Maybe a potential member? Remember\, you get entered in the drawing in October for a $1500 cash prize for every new member you bring in! This is the perfect opportunity!</span></span></p>\n&nbsp\;\n\n<p dir="ltr" style="line-height:1.38\;margin-top:10pt\;margin-bottom:10pt\;"><span id="docs-internal-guid-2f0503ca-7fff-d6e2-62b8-9f5bbc39fb56"><span style="font-size: 12pt\; font-family: Verdana\; background-color: transparent\; font-variant-numeric: normal\; font-variant-east-asian: normal\; vertical-align: baseline\; white-space: pre-wrap\;">If you haven&#39\;t been to a Member Mixer before\, it&#39\;s all </span><span style="font-size: 12pt\; font-family: Verdana\; color: rgb(51\, 153\, 255)\; background-color: transparent\; font-weight: 700\; font-variant-numeric: normal\; font-variant-east-asian: normal\; vertical-align: baseline\; white-space: pre-wrap\;">fun &amp\; games &amp\; giveaways plus networking</span><span style="font-size: 12pt\; font-family: Verdana\; background-color: transparent\; font-variant-numeric: normal\; font-variant-east-asian: normal\; vertical-align: baseline\; white-space: pre-wrap\;"> in a relaxed atmosphere. No pressure!</span></span></p>\n&nbsp\;\n\n<p dir="ltr" style="line-height:1.38\;margin-top:10pt\;margin-bottom:10pt\;"><span id="docs-internal-guid-2f0503ca-7fff-d6e2-62b8-9f5bbc39fb56"><span style="font-size: 12pt\; font-family: Verdana\; background-color: transparent\; font-variant-numeric: normal\; font-variant-east-asian: normal\; vertical-align: baseline\; white-space: pre-wrap\;">RSVP to Judie@NCBIA.com -or- (440) 934-1090</span></span></p>\n\n<div>&nbsp\;</div>\n
LOCATION:Hop Brothers Brewing 32650 Lorain Road\, North Ridgeville
UID:e.9282.2056
SEQUENCE:3
DTSTAMP:20260423T215736Z
URL:http://members.ncbia.com/events/details/summer-member-mixer-2022-2056
END:VEVENT

END:VCALENDAR
