BEGIN:VCALENDAR
VERSION:2.0
PRODID:-//ChamberMaster//Event Calendar 2.0//EN
METHOD:PUBLISH
X-PUBLISHED-TTL:P3D
REFRESH-INTERVAL:P3D
CALSCALE:GREGORIAN
BEGIN:VEVENT
DTSTART:20231214T220000Z
DTEND:20231215T000000Z
X-MICROSOFT-CDO-ALLDAYEVENT:FALSE
SUMMARY:Ugly Sweater Christmas Party 2023
DESCRIPTION:The Ugly Sweater Christmas party is BACK!!\n\n\n\n\n\n\n\nThat's right! Come and celebrate the holiday season with your fellow NCBIA members! This year's Ugly Sweater Christmas Party is FREE to attend\, just like our Mixers!\n\n\n\nThursday\, December 14 from 5:00 - 7:00 PM\n\n\n\nFREE admission!\n\nFREE Little Bites!!\n\nPRIZES for the Best Ugly Sweater & Most Creative Christmas Outfit!!!\n\n\n\nWant to Sponsor the event? It's just $150!\n\n\n\nRSVP to (440) 934-1090 or email Judie@NCBIA.com\n\n\n\nWe hope to see you there!!!
X-ALT-DESC;FMTTYPE=text/html:<span style="color: rgb(34\, 34\, 34)\; font-size: small\; font-family: verdana\;"><span style="font-size: 18px\;">&nbsp\;<span style="color: rgb(178\, 34\, 34)\;"><strong>The Ugly Sweater Christmas party is BACK!!</strong></span></span></span><br style="color: rgb(34\, 34\, 34)\; font-family: Arial\, Helvetica\, sans-serif\; font-size: small\;" />\n<br />\n<br style="color: rgb(34\, 34\, 34)\; font-family: Arial\, Helvetica\, sans-serif\; font-size: small\;" />\n<br style="color: rgb(34\, 34\, 34)\; font-family: Arial\, Helvetica\, sans-serif\; font-size: small\;" />\n<font color="#222222" face="verdana"><span style="font-size: 18px\;">That&#39\;s right! Come and celebrate the holiday season with your fellow NCBIA members! This year&#39\;s Ugly Sweater Christmas Party is FREE to attend\, just like our Mixers!</span></font><br />\n<br />\n<span style="color: rgb(34\, 34\, 34)\; font-family: verdana\; font-size: 22px\;"><span style="color: rgb(178\, 34\, 34)\;"><strong>Thursday\, December 14 from 5:00 - 7:00 PM</strong></span></span><br />\n<br />\n<span style="color: rgb(0\, 128\, 0)\; font-family: verdana\; font-size: 18px\;"><strong>FREE</strong></span><font color="#222222" face="verdana"><span style="font-size: 18px\;">&nbsp\;admission!</span></font><br />\n<span style="color: rgb(178\, 34\, 34)\; font-family: verdana\; font-size: 18px\;"><strong>FREE</strong></span><font color="#222222" face="verdana"><span style="font-size: 18px\;">&nbsp\;Little Bites!!</span></font><br />\n<span style="color: rgb(0\, 128\, 0)\; font-family: verdana\; font-size: 18px\;"><strong>PRIZES</strong></span><font color="#222222" face="verdana"><span style="font-size: 18px\;">&nbsp\;for the Best Ugly Sweater &amp\; Most Creative Christmas Outfit!!!</span></font><br />\n<br />\n<font color="#222222" face="verdana"><span style="font-size: 18px\;">Want to&nbsp\;</span></font><span style="color: rgb(34\, 34\, 34)\; font-family: verdana\; font-size: 22px\;"><span style="color: rgb(178\, 34\, 34)\;"><strong>Sponsor</strong></span></span><font color="#222222" face="verdana"><span style="font-size: 18px\;">&nbsp\;the event? It&#39\;s&nbsp\;</span></font><span style="color: rgb(34\, 34\, 34)\; font-family: verdana\; font-size: 22px\;"><span style="color: rgb(0\, 128\, 0)\;"><strong>just $150!</strong></span></span><br />\n<br />\n<span style="color: rgb(34\, 34\, 34)\; font-family: verdana\; font-size: 22px\;"><strong><span style="color: rgb(178\, 34\, 34)\;">R</span><span style="color: rgb(0\, 128\, 0)\;">S</span><span style="color: rgb(178\, 34\, 34)\;">V</span><span style="color: rgb(0\, 128\, 0)\;">P</span></strong></span><font color="#222222" face="verdana"><span style="font-size: 18px\;">&nbsp\;to (440) 934-1090 or email Judie@NCBIA.com</span></font><br />\n<br />\n<font color="#222222" face="verdana"><span style="font-size: 18px\;">We hope to see you there!!!</span></font>
LOCATION:Captain's Club 232 Park Ave\, Amherst
UID:e.9282.2124
SEQUENCE:3
DTSTAMP:20260422T215123Z
URL:http://members.ncbia.com/events/details/ugly-sweater-christmas-party-2023-2124
END:VEVENT

END:VCALENDAR
